Package: spillR Version: 1.6.0 Command: /home/biocbuild/bbs-3.22-bioc/R/bin/R CMD INSTALL spillR StartedAt: 2025-11-06 15:58:51 -0500 (Thu, 06 Nov 2025) EndedAt: 2025-11-06 15:59:25 -0500 (Thu, 06 Nov 2025) EllapsedTime: 34.1 seconds RetCode: 0 Status: OK