Package: spillR Version: 1.6.0 Command: /home/biocbuild/bbs-3.22-bioc/R/bin/R CMD check --install=check:spillR.install-out.txt --library=/home/biocbuild/bbs-3.22-bioc/R/site-library --timings spillR_1.6.0.tar.gz StartedAt: 2025-11-07 04:27:06 -0500 (Fri, 07 Nov 2025) EndedAt: 2025-11-07 04:35:24 -0500 (Fri, 07 Nov 2025) EllapsedTime: 497.4 seconds RetCode: 0 Status: OK CheckDir: spillR.Rcheck Warnings: 0