Package: spillR Version: 1.6.0 Command: /Library/Frameworks/R.framework/Resources/bin/R CMD check --install=check:spillR.install-out.txt --library=/Library/Frameworks/R.framework/Resources/library --no-vignettes --timings spillR_1.6.0.tar.gz StartedAt: 2025-11-04 00:32:12 -0500 (Tue, 04 Nov 2025) EndedAt: 2025-11-04 00:39:41 -0500 (Tue, 04 Nov 2025) EllapsedTime: 448.7 seconds RetCode: 0 Status: OK CheckDir: spillR.Rcheck Warnings: 0