Package: spillR Version: 1.6.0 Command: /Library/Frameworks/R.framework/Resources/bin/R CMD INSTALL spillR StartedAt: 2025-11-06 15:30:25 -0500 (Thu, 06 Nov 2025) EndedAt: 2025-11-06 15:30:41 -0500 (Thu, 06 Nov 2025) EllapsedTime: 16.5 seconds RetCode: 0 Status: OK