Package: spillR Version: 1.6.0 Command: /Library/Frameworks/R.framework/Resources/bin/R CMD build --keep-empty-dirs --no-resave-data spillR StartedAt: 2025-11-06 17:51:32 -0500 (Thu, 06 Nov 2025) EndedAt: 2025-11-06 17:52:19 -0500 (Thu, 06 Nov 2025) EllapsedTime: 46.5 seconds RetCode: 0 Status: OK PackageFile: spillR_1.6.0.tar.gz PackageFileSize: 567.4 KiB