Package: spillR Version: 1.6.0 Command: rm -rf spillR.buildbin-libdir && mkdir spillR.buildbin-libdir && /Users/biocbuild/BBS/utils/build-universal.sh spillR_1.6.0.tar.gz /Library/Frameworks/R.framework/Resources/bin/R spillR.buildbin-libdir StartedAt: 2025-11-06 23:23:11 -0500 (Thu, 06 Nov 2025) EndedAt: 2025-11-06 23:23:27 -0500 (Thu, 06 Nov 2025) EllapsedTime: 15.3 seconds RetCode: 0 Status: OK PackageFile: spillR_1.6.0.tgz PackageFileSize: 578.8 KiB