Package: spillR Version: 1.6.0 Maintainer: Marco Guazzini MaintainerEmail: m.guazzini at student.maastrichtuniversity.nl git_url: https://git.bioconductor.org/packages/spillR git_branch: RELEASE_3_22 git_last_commit: 401c8dd git_last_commit_date: 2025-10-29 11:27:04 -0500 (Wed, 29 Oct 2025)