Package: spikeLI Version: 2.68.0 Command: /Library/Frameworks/R.framework/Resources/bin/R CMD check --install=check:spikeLI.install-out.txt --library=/Library/Frameworks/R.framework/Resources/library --no-vignettes --timings spikeLI_2.68.0.tar.gz StartedAt: 2025-10-14 10:57:55 -0400 (Tue, 14 Oct 2025) EndedAt: 2025-10-14 10:59:04 -0400 (Tue, 14 Oct 2025) EllapsedTime: 68.7 seconds RetCode: 0 Status: OK CheckDir: spikeLI.Rcheck Warnings: 0