Package: spikeLI Version: 2.68.0 Command: rm -rf spikeLI.buildbin-libdir && mkdir spikeLI.buildbin-libdir && /Users/biocbuild/BBS/utils/build-universal.sh spikeLI_2.68.0.tar.gz /Library/Frameworks/R.framework/Resources/bin/R spikeLI.buildbin-libdir StartedAt: 2025-10-14 14:52:32 -0400 (Tue, 14 Oct 2025) EndedAt: 2025-10-14 14:52:45 -0400 (Tue, 14 Oct 2025) EllapsedTime: 13.5 seconds RetCode: 0 Status: OK PackageFile: spikeLI_2.68.0.tgz PackageFileSize: 417.9 KiB