Package: spicyR Version: 1.20.5 Command: /Library/Frameworks/R.framework/Resources/bin/R CMD check --install=check:spicyR.install-out.txt --library=/Library/Frameworks/R.framework/Resources/library --no-vignettes --timings spicyR_1.20.5.tar.gz StartedAt: 2025-10-14 10:57:40 -0400 (Tue, 14 Oct 2025) EndedAt: 2025-10-14 11:09:30 -0400 (Tue, 14 Oct 2025) EllapsedTime: 710.4 seconds RetCode: 0 Status: OK CheckDir: spicyR.Rcheck Warnings: 0