Package: speckle Version: 1.8.0 Command: rm -rf speckle.buildbin-libdir && mkdir speckle.buildbin-libdir && /Users/biocbuild/BBS/utils/build-universal.sh speckle_1.8.0.tar.gz /Library/Frameworks/R.framework/Resources/bin/R speckle.buildbin-libdir StartedAt: 2025-10-15 20:39:43 -0400 (Wed, 15 Oct 2025) EndedAt: 2025-10-15 20:40:31 -0400 (Wed, 15 Oct 2025) EllapsedTime: 47.7 seconds RetCode: 0 Status: OK PackageFile: speckle_1.8.0.tgz PackageFileSize: 1.466 MiB