Package: spatialFDA Version: 1.2.0 Command: /home/biocbuild/bbs-3.22-bioc/R/bin/R CMD check --install=check:spatialFDA.install-out.txt --library=/home/biocbuild/bbs-3.22-bioc/R/site-library --timings spatialFDA_1.2.0.tar.gz StartedAt: 2025-11-07 04:22:36 -0500 (Fri, 07 Nov 2025) EndedAt: 2025-11-07 04:39:40 -0500 (Fri, 07 Nov 2025) EllapsedTime: 1024.0 seconds RetCode: 0 Status: OK CheckDir: spatialFDA.Rcheck Warnings: 0