Package: spatialDE Version: 1.15.1 Command: chmod a+r spatialDE -R && F:\biocbuild\bbs-3.22-bioc\R\bin\R.exe CMD build --keep-empty-dirs --no-resave-data spatialDE StartedAt: 2025-08-14 23:26:55 -0400 (Thu, 14 Aug 2025) EndedAt: 2025-08-14 23:27:51 -0400 (Thu, 14 Aug 2025) EllapsedTime: 56.4 seconds RetCode: 1 Status: ERROR PackageFile: None PackageFileSize: NA