Package: spatialDE Version: 1.14.1 Command: /Library/Frameworks/R.framework/Resources/bin/R CMD check --install=check:spatialDE.install-out.txt --library=/Library/Frameworks/R.framework/Resources/library --no-vignettes --timings spatialDE_1.14.1.tar.gz StartedAt: 2025-10-10 10:48:04 -0400 (Fri, 10 Oct 2025) EndedAt: 2025-10-10 10:57:59 -0400 (Fri, 10 Oct 2025) EllapsedTime: 595.5 seconds RetCode: 0 Status: OK CheckDir: spatialDE.Rcheck Warnings: 0