Package: spatialDE Version: 1.14.1 Command: /Library/Frameworks/R.framework/Resources/bin/R CMD build --keep-empty-dirs --no-resave-data spatialDE StartedAt: 2025-10-09 22:53:05 -0400 (Thu, 09 Oct 2025) EndedAt: 2025-10-09 22:58:32 -0400 (Thu, 09 Oct 2025) EllapsedTime: 327.1 seconds RetCode: 0 Status: OK PackageFile: spatialDE_1.14.1.tar.gz PackageFileSize: 3.875 MiB