Package: sparsenetgls Version: 1.26.0 Command: E:\biocbuild\bbs-3.21-bioc\R\bin\R.exe CMD check --no-multiarch --install=check:sparsenetgls.install-out.txt --library=E:\biocbuild\bbs-3.21-bioc\R\library --no-vignettes --timings sparsenetgls_1.26.0.tar.gz StartedAt: 2025-08-15 07:11:24 -0400 (Fri, 15 Aug 2025) EndedAt: 2025-08-15 07:13:19 -0400 (Fri, 15 Aug 2025) EllapsedTime: 114.7 seconds RetCode: 0 Status: OK CheckDir: sparsenetgls.Rcheck Warnings: 0