Package: sparsenetgls Version: 1.26.0 Command: /home/biocbuild/bbs-3.21-bioc/R/bin/R CMD build --keep-empty-dirs --no-resave-data sparsenetgls StartedAt: 2025-10-15 20:02:13 -0400 (Wed, 15 Oct 2025) EndedAt: 2025-10-15 20:05:17 -0400 (Wed, 15 Oct 2025) EllapsedTime: 184.1 seconds RetCode: 0 Status: OK PackageFile: sparsenetgls_1.26.0.tar.gz PackageFileSize: 636 KiB