Package: sparsenetgls Version: 1.26.0 Command: rm -rf sparsenetgls.buildbin-libdir && mkdir sparsenetgls.buildbin-libdir && /Users/biocbuild/BBS/utils/build-universal.sh sparsenetgls_1.26.0.tar.gz /Library/Frameworks/R.framework/Resources/bin/R sparsenetgls.buildbin-libdir StartedAt: 2025-10-14 14:51:04 -0400 (Tue, 14 Oct 2025) EndedAt: 2025-10-14 14:51:21 -0400 (Tue, 14 Oct 2025) EllapsedTime: 17.0 seconds RetCode: 0 Status: OK PackageFile: sparsenetgls_1.26.0.tgz PackageFileSize: 658 KiB