Package: sparsenetgls Version: 1.26.0 Command: /home/biocbuild/R/R/bin/R CMD build --keep-empty-dirs --no-resave-data sparsenetgls StartedAt: 2025-10-14 04:55:24 -0000 (Tue, 14 Oct 2025) EndedAt: 2025-10-14 05:01:59 -0000 (Tue, 14 Oct 2025) EllapsedTime: 394.2 seconds RetCode: 0 Status: OK PackageFile: sparsenetgls_1.26.0.tar.gz PackageFileSize: 604.8 KiB