Package: sparsenetgls Version: 1.26.0 Command: rm -rf sparsenetgls.buildbin-libdir && mkdir sparsenetgls.buildbin-libdir && /Users/biocbuild/BBS/utils/build-universal.sh sparsenetgls_1.26.0.tar.gz /Library/Frameworks/R.framework/Resources/bin/R sparsenetgls.buildbin-libdir StartedAt: 2025-10-15 20:38:02 -0400 (Wed, 15 Oct 2025) EndedAt: 2025-10-15 20:38:11 -0400 (Wed, 15 Oct 2025) EllapsedTime: 9.0 seconds RetCode: 0 Status: OK PackageFile: sparsenetgls_1.26.0.tgz PackageFileSize: 676.2 KiB