Package: sparrow Version: 1.15.0 Command: chmod a+r sparrow -R && F:\biocbuild\bbs-3.22-bioc\R\bin\R.exe CMD build --keep-empty-dirs --no-resave-data sparrow StartedAt: 2025-08-14 23:25:31 -0400 (Thu, 14 Aug 2025) EndedAt: 2025-08-14 23:28:22 -0400 (Thu, 14 Aug 2025) EllapsedTime: 171.1 seconds RetCode: 0 Status: OK PackageFile: sparrow_1.15.0.tar.gz PackageFileSize: 3.817 MiB