Package: sparrow Version: 1.16.0 Command: /home/biocbuild/bbs-3.22-bioc/R/bin/R CMD check --install=check:sparrow.install-out.txt --library=/home/biocbuild/bbs-3.22-bioc/R/site-library --timings sparrow_1.16.0.tar.gz StartedAt: 2025-11-07 04:18:01 -0500 (Fri, 07 Nov 2025) EndedAt: 2025-11-07 04:27:51 -0500 (Fri, 07 Nov 2025) EllapsedTime: 590.5 seconds RetCode: 0 Status: OK CheckDir: sparrow.Rcheck Warnings: 0