Package: sparrow Version: 1.16.0 Command: /home/biocbuild/bbs-3.22-bioc/R/bin/R CMD build --keep-empty-dirs --no-resave-data --md5 sparrow StartedAt: 2025-11-06 20:12:27 -0500 (Thu, 06 Nov 2025) EndedAt: 2025-11-06 20:14:30 -0500 (Thu, 06 Nov 2025) EllapsedTime: 123.1 seconds RetCode: 0 Status: OK PackageFile: sparrow_1.16.0.tar.gz PackageFileSize: 4.139 MiB