Package: spacexr Version: 1.2.0 Command: /Library/Frameworks/R.framework/Resources/bin/R CMD build --keep-empty-dirs --no-resave-data spacexr StartedAt: 2025-11-03 18:52:35 -0500 (Mon, 03 Nov 2025) EndedAt: 2025-11-03 18:54:24 -0500 (Mon, 03 Nov 2025) EllapsedTime: 109.7 seconds RetCode: 0 Status: OK PackageFile: spacexr_1.2.0.tar.gz PackageFileSize: 482.7 KiB