Package: spARI Version: 1.0.0 Command: /home/biocbuild/R/R/bin/R CMD INSTALL spARI StartedAt: 2025-11-20 22:10:32 -0000 (Thu, 20 Nov 2025) EndedAt: 2025-11-20 22:11:10 -0000 (Thu, 20 Nov 2025) EllapsedTime: 38.7 seconds RetCode: 0 Status: OK