Package: spARI Version: 1.0.0 Command: /home/biocbuild/R/R/bin/R CMD build --keep-empty-dirs --no-resave-data spARI StartedAt: 2025-11-21 06:04:23 -0000 (Fri, 21 Nov 2025) EndedAt: 2025-11-21 06:06:02 -0000 (Fri, 21 Nov 2025) EllapsedTime: 99.0 seconds RetCode: 0 Status: OK PackageFile: spARI_1.0.0.tar.gz PackageFileSize: 290.5 KiB