Package: spARI Version: 1.0.0 Command: /home/biocbuild/bbs-3.22-bioc/R/bin/R CMD INSTALL spARI StartedAt: 2025-11-06 15:21:13 -0500 (Thu, 06 Nov 2025) EndedAt: 2025-11-06 15:21:41 -0500 (Thu, 06 Nov 2025) EllapsedTime: 28.1 seconds RetCode: 0 Status: OK