Package: spARI Version: 1.0.0 Command: /home/biocbuild/bbs-3.22-bioc/R/bin/R CMD check --install=check:spARI.install-out.txt --library=/home/biocbuild/bbs-3.22-bioc/R/site-library --timings spARI_1.0.0.tar.gz StartedAt: 2025-11-07 04:17:58 -0500 (Fri, 07 Nov 2025) EndedAt: 2025-11-07 04:21:23 -0500 (Fri, 07 Nov 2025) EllapsedTime: 205.1 seconds RetCode: 0 Status: OK CheckDir: spARI.Rcheck Warnings: 0