Package: spARI Version: 1.0.0 Command: /home/biocbuild/bbs-3.22-bioc/R/bin/R CMD build --keep-empty-dirs --no-resave-data --md5 spARI StartedAt: 2025-11-06 20:12:19 -0500 (Thu, 06 Nov 2025) EndedAt: 2025-11-06 20:13:31 -0500 (Thu, 06 Nov 2025) EllapsedTime: 72.0 seconds RetCode: 0 Status: OK PackageFile: spARI_1.0.0.tar.gz PackageFileSize: 301.4 KiB