Package: snpStats Version: 1.58.0 Command: chmod a+r snpStats -R && E:\biocbuild\bbs-3.21-bioc\R\bin\R.exe CMD build --keep-empty-dirs --no-resave-data snpStats StartedAt: 2025-08-14 22:21:26 -0400 (Thu, 14 Aug 2025) EndedAt: 2025-08-14 22:24:30 -0400 (Thu, 14 Aug 2025) EllapsedTime: 184.1 seconds RetCode: 0 Status: OK PackageFile: snpStats_1.58.0.tar.gz PackageFileSize: 6.743 MiB