Package: snm Version: 1.56.0 Command: chmod a+r snm -R && E:\biocbuild\bbs-3.21-bioc\R\bin\R.exe CMD build --keep-empty-dirs --no-resave-data snm StartedAt: 2025-08-14 22:20:35 -0400 (Thu, 14 Aug 2025) EndedAt: 2025-08-14 22:22:45 -0400 (Thu, 14 Aug 2025) EllapsedTime: 129.9 seconds RetCode: 0 Status: OK PackageFile: snm_1.56.0.tar.gz PackageFileSize: 566.7 KiB