Package: snm Version: 1.56.0 Command: rm -rf snm.buildbin-libdir && mkdir snm.buildbin-libdir && E:\biocbuild\bbs-3.21-bioc\R\bin\R.exe CMD INSTALL --build --library=snm.buildbin-libdir snm_1.56.0.tar.gz StartedAt: 2025-08-15 10:21:16 -0400 (Fri, 15 Aug 2025) EndedAt: 2025-08-15 10:21:32 -0400 (Fri, 15 Aug 2025) EllapsedTime: 15.6 seconds RetCode: 0 Status: OK PackageFile: snm_1.56.0.zip PackageFileSize: 456.8 KiB