Package: snm Version: 1.56.0 Command: /Library/Frameworks/R.framework/Resources/bin/R CMD INSTALL snm StartedAt: 2025-10-09 15:09:47 -0400 (Thu, 09 Oct 2025) EndedAt: 2025-10-09 15:10:45 -0400 (Thu, 09 Oct 2025) EllapsedTime: 58.5 seconds RetCode: 0 Status: OK