Package: snm Version: 1.56.0 Command: rm -rf snm.buildbin-libdir && mkdir snm.buildbin-libdir && /Users/biocbuild/BBS/utils/build-universal.sh snm_1.56.0.tar.gz /Library/Frameworks/R.framework/Resources/bin/R snm.buildbin-libdir StartedAt: 2025-04-21 22:53:15 -0400 (Mon, 21 Apr 2025) EndedAt: 2025-04-21 22:53:19 -0400 (Mon, 21 Apr 2025) EllapsedTime: 4.1 seconds RetCode: 0 Status: OK PackageFile: snm_1.56.0.tgz PackageFileSize: 616.5 KiB