Package: snm Version: 1.56.0 Command: /Library/Frameworks/R.framework/Resources/bin/R CMD check --install=check:snm.install-out.txt --library=/Library/Frameworks/R.framework/Resources/library --no-vignettes --timings snm_1.56.0.tar.gz StartedAt: 2025-10-08 15:23:27 -0400 (Wed, 08 Oct 2025) EndedAt: 2025-10-08 15:29:28 -0400 (Wed, 08 Oct 2025) EllapsedTime: 360.8 seconds RetCode: 0 Status: OK CheckDir: snm.Rcheck Warnings: 0