Package: snm Version: 1.56.0 Command: /Library/Frameworks/R.framework/Resources/bin/R CMD build --keep-empty-dirs --no-resave-data snm StartedAt: 2025-10-07 10:13:15 -0400 (Tue, 07 Oct 2025) EndedAt: 2025-10-07 10:15:53 -0400 (Tue, 07 Oct 2025) EllapsedTime: 158.1 seconds RetCode: 0 Status: OK PackageFile: snm_1.56.0.tar.gz PackageFileSize: 727.8 KiB