Package: snm Version: 1.56.0 Command: rm -rf snm.buildbin-libdir && mkdir snm.buildbin-libdir && /Users/biocbuild/BBS/utils/build-universal.sh snm_1.56.0.tar.gz /Library/Frameworks/R.framework/Resources/bin/R snm.buildbin-libdir StartedAt: 2025-10-08 23:09:52 -0400 (Wed, 08 Oct 2025) EndedAt: 2025-10-08 23:10:02 -0400 (Wed, 08 Oct 2025) EllapsedTime: 10.0 seconds RetCode: 0 Status: OK PackageFile: snm_1.56.0.tgz PackageFileSize: 616 KiB