Package: snifter Version: 1.20.0 Command: /home/biocbuild/bbs-3.22-bioc/R/bin/R CMD INSTALL snifter StartedAt: 2025-11-17 17:10:16 -0500 (Mon, 17 Nov 2025) EndedAt: 2025-11-17 17:10:22 -0500 (Mon, 17 Nov 2025) EllapsedTime: 5.9 seconds RetCode: 0 Status: OK