Package: snifter Version: 1.20.0 Command: /home/biocbuild/bbs-3.22-bioc/R/bin/R CMD check --install=check:snifter.install-out.txt --library=/home/biocbuild/bbs-3.22-bioc/R/site-library --timings snifter_1.20.0.tar.gz StartedAt: 2025-11-17 04:24:15 -0500 (Mon, 17 Nov 2025) EndedAt: 2025-11-17 04:26:26 -0500 (Mon, 17 Nov 2025) EllapsedTime: 131.1 seconds RetCode: 0 Status: OK CheckDir: snifter.Rcheck Warnings: 0