Package: snifter Version: 1.18.0 Command: /Library/Frameworks/R.framework/Resources/bin/R CMD check --install=check:snifter.install-out.txt --library=/Library/Frameworks/R.framework/Resources/library --no-vignettes --timings snifter_1.18.0.tar.gz StartedAt: 2025-04-21 23:40:24 -0400 (Mon, 21 Apr 2025) EndedAt: 2025-04-21 23:42:59 -0400 (Mon, 21 Apr 2025) EllapsedTime: 154.7 seconds RetCode: 0 Status: OK CheckDir: snifter.Rcheck Warnings: 0