Package: snifter Version: 1.18.1 Command: /Library/Frameworks/R.framework/Resources/bin/R CMD check --install=check:snifter.install-out.txt --library=/Library/Frameworks/R.framework/Resources/library --no-vignettes --timings snifter_1.18.1.tar.gz StartedAt: 2025-10-15 13:10:27 -0400 (Wed, 15 Oct 2025) EndedAt: 2025-10-15 13:12:39 -0400 (Wed, 15 Oct 2025) EllapsedTime: 131.8 seconds RetCode: 0 Status: OK CheckDir: snifter.Rcheck Warnings: 0