Package: snifter Version: 1.18.1 Command: /Library/Frameworks/R.framework/Resources/bin/R CMD build --keep-empty-dirs --no-resave-data snifter StartedAt: 2025-10-14 09:48:22 -0400 (Tue, 14 Oct 2025) EndedAt: 2025-10-14 09:49:18 -0400 (Tue, 14 Oct 2025) EllapsedTime: 55.7 seconds RetCode: 0 Status: OK PackageFile: snifter_1.18.1.tar.gz PackageFileSize: 889.3 KiB