Package: snapcount Version: 1.21.0 Command: /home/biocbuild/R/R/bin/R CMD INSTALL snapcount StartedAt: 2025-10-23 20:52:10 -0000 (Thu, 23 Oct 2025) EndedAt: 2025-10-23 21:04:20 -0000 (Thu, 23 Oct 2025) EllapsedTime: 729.9 seconds RetCode: 1 Status: ERROR