Package: snapcount Version: 1.22.0 Command: /home/biocbuild/bbs-3.22-bioc/R/bin/R CMD check --install=check:snapcount.install-out.txt --library=/home/biocbuild/bbs-3.22-bioc/R/site-library --timings snapcount_1.22.0.tar.gz StartedAt: 2025-11-10 04:28:25 -0500 (Mon, 10 Nov 2025) EndedAt: 2025-11-10 04:34:41 -0500 (Mon, 10 Nov 2025) EllapsedTime: 376.3 seconds RetCode: 0 Status: OK CheckDir: snapcount.Rcheck Warnings: 0