Package: smoppix Version: 1.0.0 Command: chmod a+r smoppix -R && E:\biocbuild\bbs-3.21-bioc\R\bin\R.exe CMD build --keep-empty-dirs --no-resave-data smoppix StartedAt: 2025-08-14 22:20:14 -0400 (Thu, 14 Aug 2025) EndedAt: 2025-08-14 22:27:10 -0400 (Thu, 14 Aug 2025) EllapsedTime: 415.7 seconds RetCode: 0 Status: OK PackageFile: smoppix_1.0.0.tar.gz PackageFileSize: 3.653 MiB