Package: smoppix Version: 1.0.0 Command: /Library/Frameworks/R.framework/Resources/bin/R CMD INSTALL smoppix StartedAt: 2025-09-29 15:42:33 -0400 (Mon, 29 Sep 2025) EndedAt: 2025-09-29 15:44:16 -0400 (Mon, 29 Sep 2025) EllapsedTime: 103.0 seconds RetCode: 0 Status: OK