Package: smoothclust Version: 1.5.7 Command: /home/biocbuild/R/R/bin/R CMD check --install=check:smoothclust.install-out.txt --library=/home/biocbuild/R/R/site-library --no-vignettes --timings smoothclust_1.5.7.tar.gz StartedAt: 2025-10-17 13:48:25 -0000 (Fri, 17 Oct 2025) EndedAt: 2025-10-17 13:53:48 -0000 (Fri, 17 Oct 2025) EllapsedTime: 323.4 seconds RetCode: 0 Status: OK CheckDir: smoothclust.Rcheck Warnings: 0