Package: smartid Version: 1.4.0 Command: rm -rf smartid.buildbin-libdir && mkdir smartid.buildbin-libdir && E:\biocbuild\bbs-3.21-bioc\R\bin\R.exe CMD INSTALL --build --library=smartid.buildbin-libdir smartid_1.4.0.tar.gz StartedAt: 2025-08-15 10:20:53 -0400 (Fri, 15 Aug 2025) EndedAt: 2025-08-15 10:21:35 -0400 (Fri, 15 Aug 2025) EllapsedTime: 42.6 seconds RetCode: 0 Status: OK PackageFile: smartid_1.4.0.zip PackageFileSize: 1.516 MiB