Package: smartid Version: 1.4.0 Command: /home/biocbuild/bbs-3.21-bioc/R/bin/R CMD INSTALL smartid StartedAt: 2025-10-01 15:25:44 -0400 (Wed, 01 Oct 2025) EndedAt: 2025-10-01 15:26:07 -0400 (Wed, 01 Oct 2025) EllapsedTime: 23.3 seconds RetCode: 0 Status: OK