Package: smartid Version: 1.4.0 Command: /Library/Frameworks/R.framework/Resources/bin/R CMD INSTALL smartid StartedAt: 2025-10-06 15:40:08 -0400 (Mon, 06 Oct 2025) EndedAt: 2025-10-06 15:41:00 -0400 (Mon, 06 Oct 2025) EllapsedTime: 52.8 seconds RetCode: 0 Status: OK